BEGIN:VCALENDAR
VERSION:2.0
PRODID:-//Palmetto Bluff - ECPv6.9.0//NONSGML v1.0//EN
CALSCALE:GREGORIAN
METHOD:PUBLISH
X-ORIGINAL-URL:https://www.palmettobluff.com
X-WR-CALDESC:Events for Palmetto Bluff
REFRESH-INTERVAL;VALUE=DURATION:PT1H
X-Robots-Tag:noindex
X-PUBLISHED-TTL:PT1H
BEGIN:VTIMEZONE
TZID:UTC
BEGIN:STANDARD
TZOFFSETFROM:+0000
TZOFFSETTO:+0000
TZNAME:UTC
DTSTART:20260101T000000
END:STANDARD
END:VTIMEZONE
BEGIN:VEVENT
DTSTART;TZID=UTC:20260710T090000
DTEND;TZID=UTC:20260710T113000
DTSTAMP:20260422T062651
CREATED:20260420T201124Z
LAST-MODIFIED:20260420T201124Z
UID:10000337-1783674000-1783683000@www.palmettobluff.com
SUMMARY:Explore PBC: Road to Anson
DESCRIPTION:New to Palmetto Bluff and wish to have a glimpse of what the Conservancy does? Join us as we travel down Whitehouse Road\, stopping at various locations to observe areas where we conduct research and land management. At the end\, we will see the stunning view of the New River from what will one day be Anson Village. \nClosed-toed shoes and long pants required. \nReservations required through: info@pbconservancy.org.
URL:https://www.palmettobluff.com/event/explore-pbc-road-to-anson-9/
LOCATION:Conservancy Classroom\, 655 Old Moreland Road\, Bluffton\, SC\, 29910
CATEGORIES:Conservancy,Nature Outings
ATTACH;FMTTYPE=image/jpeg:https://www.palmettobluff.com/wp-content/uploads/2026/01/Explore-PBC-Road-to-Anson.jpg
END:VEVENT
END:VCALENDAR