BEGIN:VCALENDAR
VERSION:2.0
PRODID:-//Palmetto Bluff - ECPv6.9.0//NONSGML v1.0//EN
CALSCALE:GREGORIAN
METHOD:PUBLISH
X-WR-CALNAME:Palmetto Bluff
X-ORIGINAL-URL:https://www.palmettobluff.com
X-WR-CALDESC:Events for Palmetto Bluff
REFRESH-INTERVAL;VALUE=DURATION:PT1H
X-Robots-Tag:noindex
X-PUBLISHED-TTL:PT1H
BEGIN:VTIMEZONE
TZID:UTC
BEGIN:STANDARD
TZOFFSETFROM:+0000
TZOFFSETTO:+0000
TZNAME:UTC
DTSTART:20260101T000000
END:STANDARD
END:VTIMEZONE
BEGIN:VEVENT
DTSTART;TZID=UTC:20260520T090000
DTEND;TZID=UTC:20260520T110000
DTSTAMP:20260421T141933
CREATED:20260306T201555Z
LAST-MODIFIED:20260306T201555Z
UID:10000311-1779267600-1779274800@www.palmettobluff.com
SUMMARY:Explore PBC: Aquatic Invertebrates
DESCRIPTION:Healthy wetlands and ponds contain a diversity of invertebrates beneath their surface.  Join Declan Wilson as we look for these fascinating creatures and talk about their behaviors and adaptations they developed for their aquatic lifestyle. \nClosed-toed shoes and long pants required. \nReservations required through: info@pbconservancy.org.
URL:https://www.palmettobluff.com/event/explore-pbc-aquatic-invertebrates/
LOCATION:Conservancy Classroom\, 655 Old Moreland Road\, Bluffton\, SC\, 29910
CATEGORIES:Conservancy,Hands-On Activities,Kid Friendly,Nature Outings
ATTACH;FMTTYPE=image/jpeg:https://www.palmettobluff.com/wp-content/uploads/2026/03/Dragonfly-Larva-scaled.jpg
END:VEVENT
END:VCALENDAR