BEGIN:VCALENDAR
VERSION:2.0
PRODID:-//Palmetto Bluff - ECPv6.9.0//NONSGML v1.0//EN
CALSCALE:GREGORIAN
METHOD:PUBLISH
X-WR-CALNAME:Palmetto Bluff
X-ORIGINAL-URL:https://www.palmettobluff.com
X-WR-CALDESC:Events for Palmetto Bluff
REFRESH-INTERVAL;VALUE=DURATION:PT1H
X-Robots-Tag:noindex
X-PUBLISHED-TTL:PT1H
BEGIN:VTIMEZONE
TZID:UTC
BEGIN:STANDARD
TZOFFSETFROM:+0000
TZOFFSETTO:+0000
TZNAME:UTC
DTSTART:20260101T000000
END:STANDARD
END:VTIMEZONE
BEGIN:VEVENT
DTSTART;TZID=UTC:20260303T100000
DTEND;TZID=UTC:20260303T120000
DTSTAMP:20260425T143513
CREATED:20260114T190352Z
LAST-MODIFIED:20260206T165618Z
UID:10000244-1772532000-1772539200@www.palmettobluff.com
SUMMARY:Burn Watch
DESCRIPTION:*FULLY COMMITTED* | \nInterested in the Conservancy’s prescribed fire management? Come see recently burned stands within the managed forest and learn why this management technique is crucial to ecosystems in the Southeast. We might even see a burn in progress! \nClosed-toed shoes and long pants required. \nReservations required through: info@pbconservancy.org.
URL:https://www.palmettobluff.com/event/burn-watch-6/
LOCATION:Conservancy Classroom\, 655 Old Moreland Road\, Bluffton\, SC\, 29910
CATEGORIES:Conservancy,Nature Outings,Seasonal Programs
ATTACH;FMTTYPE=image/jpeg:https://www.palmettobluff.com/wp-content/uploads/2026/01/Burn-Watch-6-scaled.jpg
END:VEVENT
END:VCALENDAR