BEGIN:VCALENDAR
VERSION:2.0
PRODID:-//Palmetto Bluff - ECPv6.9.0//NONSGML v1.0//EN
CALSCALE:GREGORIAN
METHOD:PUBLISH
X-WR-CALNAME:Palmetto Bluff
X-ORIGINAL-URL:https://www.palmettobluff.com
X-WR-CALDESC:Events for Palmetto Bluff
REFRESH-INTERVAL;VALUE=DURATION:PT1H
X-Robots-Tag:noindex
X-PUBLISHED-TTL:PT1H
BEGIN:VTIMEZONE
TZID:UTC
BEGIN:STANDARD
TZOFFSETFROM:+0000
TZOFFSETTO:+0000
TZNAME:UTC
DTSTART:20260101T000000
END:STANDARD
END:VTIMEZONE
BEGIN:VEVENT
DTSTART;TZID=UTC:20260227T100000
DTEND;TZID=UTC:20260227T120000
DTSTAMP:20260425T111458
CREATED:20260114T172811Z
LAST-MODIFIED:20260130T181734Z
UID:10000242-1772186400-1772193600@www.palmettobluff.com
SUMMARY:Explore PBC: Turkey Stalk
DESCRIPTION:*FULLY COMMITTED* | \nPeople may be shocked to learn that wild turkeys roam Palmetto Bluff\, but this is the animal the Conservancy’s management is geared towards!  Join the Conservancy as we seek out these large\, but elusive birds and help us get an idea of where these Galliformes are spending their days. \nClosed-toed shoes\, and long pants required. \nReservations required through: info@pbconservancy.org.
URL:https://www.palmettobluff.com/event/explore-pbc-turkey-stalk-2/
LOCATION:Conservancy Classroom\, 655 Old Moreland Road\, Bluffton\, SC\, 29910
CATEGORIES:Conservancy,Nature Outings
ATTACH;FMTTYPE=image/jpeg:https://www.palmettobluff.com/wp-content/uploads/2026/01/Turkey-Stalk-scaled.jpg
END:VEVENT
END:VCALENDAR