BEGIN:VCALENDAR
VERSION:2.0
PRODID:-//Palmetto Bluff - ECPv6.9.0//NONSGML v1.0//EN
CALSCALE:GREGORIAN
METHOD:PUBLISH
X-ORIGINAL-URL:https://www.palmettobluff.com
X-WR-CALDESC:Events for Palmetto Bluff
REFRESH-INTERVAL;VALUE=DURATION:PT1H
X-Robots-Tag:noindex
X-PUBLISHED-TTL:PT1H
BEGIN:VTIMEZONE
TZID:UTC
BEGIN:STANDARD
TZOFFSETFROM:+0000
TZOFFSETTO:+0000
TZNAME:UTC
DTSTART:20260101T000000
END:STANDARD
END:VTIMEZONE
BEGIN:VEVENT
DTSTART;TZID=UTC:20260708T090000
DTEND;TZID=UTC:20260708T110000
DTSTAMP:20260422T024115
CREATED:20260420T200858Z
LAST-MODIFIED:20260420T200858Z
UID:10000335-1783501200-1783508400@www.palmettobluff.com
SUMMARY:Explore PBC: Hog Island Hard Marsh
DESCRIPTION:Join the Conservancy as we venture out onto Hog Island’s hard marsh and discuss this unique ecosystem. \nClosed-toed shoes and long pants required. \nReservations required through: info@pbconservancy.org.
URL:https://www.palmettobluff.com/event/explore-pbc-hog-island-hard-marsh/
LOCATION:Conservancy Classroom\, 655 Old Moreland Road\, Bluffton\, SC\, 29910
CATEGORIES:Conservancy,Nature Outings
ATTACH;FMTTYPE=image/jpeg:https://www.palmettobluff.com/wp-content/uploads/2026/04/DSC_1218-scaled.jpg
END:VEVENT
BEGIN:VEVENT
DTSTART;TZID=UTC:20260709T093000
DTEND;TZID=UTC:20260709T103000
DTSTAMP:20260422T024115
CREATED:20260420T201005Z
LAST-MODIFIED:20260420T201005Z
UID:10000336-1783589400-1783593000@www.palmettobluff.com
SUMMARY:Explore PBC: Marsh Ecology
DESCRIPTION:What lives in the salt marsh? Come find out as we head to Moreland Landing to check crab traps\, throw cast nets\, and search for critters just below the surface. \nClosed-toed shoes and long pants required. \nReservations required through: info@pbconservancy.org.
URL:https://www.palmettobluff.com/event/explore-pbc-marsh-ecology-10/
LOCATION:Moreland Landing
CATEGORIES:Conservancy,Hands-On Activities,Kid Friendly,Nature Outings,Seasonal Programs
ATTACH;FMTTYPE=image/jpeg:https://www.palmettobluff.com/wp-content/uploads/2026/03/Photo-Aug-01-2025-9-08-29-AM-scaled.jpg
END:VEVENT
BEGIN:VEVENT
DTSTART;TZID=UTC:20260710T090000
DTEND;TZID=UTC:20260710T113000
DTSTAMP:20260422T024115
CREATED:20260420T201124Z
LAST-MODIFIED:20260420T201124Z
UID:10000337-1783674000-1783683000@www.palmettobluff.com
SUMMARY:Explore PBC: Road to Anson
DESCRIPTION:New to Palmetto Bluff and wish to have a glimpse of what the Conservancy does? Join us as we travel down Whitehouse Road\, stopping at various locations to observe areas where we conduct research and land management. At the end\, we will see the stunning view of the New River from what will one day be Anson Village. \nClosed-toed shoes and long pants required. \nReservations required through: info@pbconservancy.org.
URL:https://www.palmettobluff.com/event/explore-pbc-road-to-anson-9/
LOCATION:Conservancy Classroom\, 655 Old Moreland Road\, Bluffton\, SC\, 29910
CATEGORIES:Conservancy,Nature Outings
ATTACH;FMTTYPE=image/jpeg:https://www.palmettobluff.com/wp-content/uploads/2026/01/Explore-PBC-Road-to-Anson.jpg
END:VEVENT
BEGIN:VEVENT
DTSTART;TZID=UTC:20260720T080000
DTEND;TZID=UTC:20260720T100000
DTSTAMP:20260422T024115
CREATED:20260420T201529Z
LAST-MODIFIED:20260420T201529Z
UID:10000339-1784534400-1784541600@www.palmettobluff.com
SUMMARY:Meandering Naturalist
DESCRIPTION:Join us on a casual stroll through River Road Preserve where Conservancy staff will point out unique plants\, animals\, and answer any questions participants have along the way. \nWalk-ins welcome.
URL:https://www.palmettobluff.com/event/meandering-naturalist-6/
LOCATION:Conservancy Classroom\, 655 Old Moreland Road\, Bluffton\, SC\, 29910
CATEGORIES:Conservancy,Kid Friendly,Nature Outings
ATTACH;FMTTYPE=image/jpeg:https://www.palmettobluff.com/wp-content/uploads/2026/04/Sun-City-Bird-Club-Bird-Walk.jpg
END:VEVENT
BEGIN:VEVENT
DTSTART;TZID=UTC:20260723T100000
DTEND;TZID=UTC:20260723T110000
DTSTAMP:20260422T024115
CREATED:20260420T202710Z
LAST-MODIFIED:20260420T202710Z
UID:10000341-1784800800-1784804400@www.palmettobluff.com
SUMMARY:Explore PBC: Marsh Ecology
DESCRIPTION:What lives in the salt marsh? Come find out as we head to Moreland Landing to check crab traps\, throw cast nets\, and search for critters just below the surface. \nClosed-toed shoes and long pants required. \nReservations required through: info@pbconservancy.org.
URL:https://www.palmettobluff.com/event/explore-pbc-marsh-ecology-11/
LOCATION:Moreland Landing
CATEGORIES:Conservancy,Hands-On Activities,Kid Friendly,Nature Outings,Seasonal Programs
ATTACH;FMTTYPE=image/jpeg:https://www.palmettobluff.com/wp-content/uploads/2026/04/Photo-Sep-18-2024-4-07-40-PM-scaled.jpg
END:VEVENT
BEGIN:VEVENT
DTSTART;TZID=UTC:20260724T203000
DTEND;TZID=UTC:20260724T223000
DTSTAMP:20260422T024115
CREATED:20260420T202902Z
LAST-MODIFIED:20260420T202902Z
UID:10000342-1784925000-1784932200@www.palmettobluff.com
SUMMARY:Explore PBC: Creatures of the Night
DESCRIPTION:What goes bump in the night? Join the Conservancy as we head out into the woods to look and listen for nocturnal wildlife residing at Palmetto Bluff. We will listen for nocturnal wildlife\, check light traps for insects\, and even meet with Conservancy staff conducting bat research! \nHead lamps\, closed-toed shoes and long pants required. \nReservations required through: info@pbconservancy.org.
URL:https://www.palmettobluff.com/event/explore-pbc-creatures-of-the-night-4/
LOCATION:Conservancy Classroom\, 655 Old Moreland Road\, Bluffton\, SC\, 29910
CATEGORIES:Conservancy,Kid Friendly,Nature Outings,Seasonal Programs
ATTACH;FMTTYPE=image/jpeg:https://www.palmettobluff.com/wp-content/uploads/2026/04/Photo-Sep-19-2025-8-21-54-PM-scaled.jpg
END:VEVENT
BEGIN:VEVENT
DTSTART;TZID=UTC:20260731T090000
DTEND;TZID=UTC:20260731T113000
DTSTAMP:20260422T024115
CREATED:20260420T203103Z
LAST-MODIFIED:20260420T203103Z
UID:10000343-1785488400-1785497400@www.palmettobluff.com
SUMMARY:Explore PBC: Turtles of Palmetto Bluff
DESCRIPTION:What turtles live at Palmetto Bluff? Let’s find out! Join the Conservancy as we check turtle traps throughout the Bluff\, identify what we catch\, and discuss the features and adaptations that make these reptiles so cool! \nClosed-toed shoes and long pants required. \nReservations required through: info@pbconservancy.org.
URL:https://www.palmettobluff.com/event/explore-pbc-turtles-of-palmetto-bluff-4/
LOCATION:Conservancy Classroom\, 655 Old Moreland Road\, Bluffton\, SC\, 29910
CATEGORIES:Conservancy,Kid Friendly,Nature Outings,Seasonal Programs
ATTACH;FMTTYPE=image/jpeg:https://www.palmettobluff.com/wp-content/uploads/2026/04/Photo-Jul-26-2024-9-25-25-AM-scaled.jpg
END:VEVENT
END:VCALENDAR