BEGIN:VCALENDAR
VERSION:2.0
PRODID:-//Palmetto Bluff - ECPv6.9.0//NONSGML v1.0//EN
CALSCALE:GREGORIAN
METHOD:PUBLISH
X-WR-CALNAME:Palmetto Bluff
X-ORIGINAL-URL:https://www.palmettobluff.com
X-WR-CALDESC:Events for Palmetto Bluff
REFRESH-INTERVAL;VALUE=DURATION:PT1H
X-Robots-Tag:noindex
X-PUBLISHED-TTL:PT1H
BEGIN:VTIMEZONE
TZID:UTC
BEGIN:STANDARD
TZOFFSETFROM:+0000
TZOFFSETTO:+0000
TZNAME:UTC
DTSTART:20260101T000000
END:STANDARD
END:VTIMEZONE
BEGIN:VEVENT
DTSTART;TZID=UTC:20260303T100000
DTEND;TZID=UTC:20260303T120000
DTSTAMP:20260425T105456
CREATED:20260114T190352Z
LAST-MODIFIED:20260206T165618Z
UID:10000244-1772532000-1772539200@www.palmettobluff.com
SUMMARY:Burn Watch
DESCRIPTION:*FULLY COMMITTED* | \nInterested in the Conservancy’s prescribed fire management? Come see recently burned stands within the managed forest and learn why this management technique is crucial to ecosystems in the Southeast. We might even see a burn in progress! \nClosed-toed shoes and long pants required. \nReservations required through: info@pbconservancy.org.
URL:https://www.palmettobluff.com/event/burn-watch-6/
LOCATION:Conservancy Classroom\, 655 Old Moreland Road\, Bluffton\, SC\, 29910
CATEGORIES:Conservancy,Nature Outings,Seasonal Programs
ATTACH;FMTTYPE=image/jpeg:https://www.palmettobluff.com/wp-content/uploads/2026/01/Burn-Watch-6-scaled.jpg
END:VEVENT
BEGIN:VEVENT
DTSTART;TZID=UTC:20260306T183000
DTEND;TZID=UTC:20260306T203000
DTSTAMP:20260425T105456
CREATED:20260114T191926Z
LAST-MODIFIED:20260209T172627Z
UID:10000249-1772821800-1772829000@www.palmettobluff.com
SUMMARY:Explore PBC: Owl Prowl
DESCRIPTION:*FULLY COMMITTED* | \nWho’s hootin’ in the woods? Join the Conservancy on this nocturnal trip and see if the Conservancy can sweet talk some owls into saying hello! \nClosed-toed shoes and long pants required. \nReservations required through: info@pbconservancy.org.
URL:https://www.palmettobluff.com/event/explore-pbc-owl-prowl-3/
LOCATION:Conservancy Classroom\, 655 Old Moreland Road\, Bluffton\, SC\, 29910
CATEGORIES:Conservancy,Kid Friendly,Nature Outings,Seasonal Programs
ATTACH;FMTTYPE=image/jpeg:https://www.palmettobluff.com/wp-content/uploads/2026/01/Photo-Dec-01-2023-10-27-20-AM.jpg
END:VEVENT
BEGIN:VEVENT
DTSTART;TZID=UTC:20260312T090000
DTEND;TZID=UTC:20260312T113000
DTSTAMP:20260425T105456
CREATED:20260114T192624Z
LAST-MODIFIED:20260114T192624Z
UID:10000253-1773306000-1773315000@www.palmettobluff.com
SUMMARY:Explore PBC: Road to Anson
DESCRIPTION:New to Palmetto Bluff and wish to have a glimpse of what the Conservancy does? Join us as we travel down Whitehouse Road\, stopping at various locations to observe areas where we conduct research and land management. At the end\, we will see the stunning view of the New River from what will one day be Anson Village. \nClosed-toed shoes and long pants required. \nReservations required through: info@pbconservancy.org.
URL:https://www.palmettobluff.com/event/explore-pbc-road-to-anson-7/
LOCATION:Conservancy Classroom\, 655 Old Moreland Road\, Bluffton\, SC\, 29910
CATEGORIES:Conservancy,Nature Outings
ATTACH;FMTTYPE=image/jpeg:https://www.palmettobluff.com/wp-content/uploads/2026/01/Explore-PBC-Road-to-Anson.jpg
END:VEVENT
BEGIN:VEVENT
DTSTART;TZID=UTC:20260313T053000
DTEND;TZID=UTC:20260313T080000
DTSTAMP:20260425T105456
CREATED:20260114T192823Z
LAST-MODIFIED:20260114T192823Z
UID:10000254-1773379800-1773388800@www.palmettobluff.com
SUMMARY:Dawn Chorus
DESCRIPTION:Not many people find themselves in the woods before sunrise\, but it is during this time that those lucky few may witness the magic of dawn. Join the Conservancy Land and Wildlife Manager\, Brian Byrne\, as he takes you out to share in this experience. \nClosed-toed shoes and long pants required. \nReservations required through: info@pbconservancy.org.
URL:https://www.palmettobluff.com/event/dawn-chorus-3/
LOCATION:Conservancy Classroom\, 655 Old Moreland Road\, Bluffton\, SC\, 29910
CATEGORIES:Conservancy,Nature Outings,Seasonal Programs
ATTACH;FMTTYPE=image/png:https://www.palmettobluff.com/wp-content/uploads/2026/01/IMG-5056.png
END:VEVENT
BEGIN:VEVENT
DTSTART;TZID=UTC:20260313T100000
DTEND;TZID=UTC:20260313T120000
DTSTAMP:20260425T105456
CREATED:20260114T193152Z
LAST-MODIFIED:20260114T193152Z
UID:10000255-1773396000-1773403200@www.palmettobluff.com
SUMMARY:Edibles\, Medicinals\, and Other Uses of Plants: Sandhill Loop
DESCRIPTION:Sustenance\, herbal remedies\, and materials for clothing are some of the many wonderful phenomena derived from plants. Join the Conservancy as we observe plants growing in Sandhill Loop and discuss how people used them in the past and present. \nClosed-toed shoes and long pants required. \nReservations required through: info@pbconservancy.org.
URL:https://www.palmettobluff.com/event/edibles-medicinals-and-other-uses-of-plants-sandhill-loop/
LOCATION:Wilson Village Post Office\, 15 Village Park Square\, Bluffton\, SC\, 29910
CATEGORIES:Conservancy,Kid Friendly,Nature Outings
ATTACH;FMTTYPE=image/jpeg:https://www.palmettobluff.com/wp-content/uploads/2026/01/Blooms-Sweetleaf-scaled.jpg
END:VEVENT
BEGIN:VEVENT
DTSTART;TZID=UTC:20260316T090000
DTEND;TZID=UTC:20260316T110000
DTSTAMP:20260425T105456
CREATED:20260114T193541Z
LAST-MODIFIED:20260114T193541Z
UID:10000256-1773651600-1773658800@www.palmettobluff.com
SUMMARY:Meandering Naturalist
DESCRIPTION:Join us on a casual stroll through River Road Preserve where Conservancy staff will point out unique plants\, animals\, and answer any questions participants have along the way. \nWalk-ins welcome.
URL:https://www.palmettobluff.com/event/meandering-naturalist-3/
LOCATION:Conservancy Classroom\, 655 Old Moreland Road\, Bluffton\, SC\, 29910
CATEGORIES:Conservancy,Kid Friendly,Nature Outings
ATTACH;FMTTYPE=image/jpeg:https://www.palmettobluff.com/wp-content/uploads/2026/01/Meandering-Naturalist-scaled.jpg
END:VEVENT
BEGIN:VEVENT
DTSTART;TZID=UTC:20260317T130000
DTEND;TZID=UTC:20260317T160000
DTSTAMP:20260425T105456
CREATED:20260114T194556Z
LAST-MODIFIED:20260217T145247Z
UID:10000258-1773752400-1773763200@www.palmettobluff.com
SUMMARY:Research Excursion: Cavity Nest Box Survey
DESCRIPTION:*FULLY COMMITTED* | \nJoin the Conservancy as we conduct the monthly cavity nest box survey. These large nest boxes are located in multiple habitats throughout Palmetto Bluff\, and we are excited to see what animals call them home! \nClosed-toed shoes/waterproof boots and long pants required. \nReservations required through: info@pbconservancy.org.
URL:https://www.palmettobluff.com/event/research-excursion-cavity-nest-box-survey-10/
LOCATION:Conservancy Classroom\, 655 Old Moreland Road\, Bluffton\, SC\, 29910
CATEGORIES:Conservancy,Kid Friendly,Nature Outings,Seasonal Programs
ATTACH;FMTTYPE=image/jpeg:https://www.palmettobluff.com/wp-content/uploads/2026/01/Photo-Mar-26-2024-11-06-01-AM-scaled.jpg
END:VEVENT
BEGIN:VEVENT
DTSTART;TZID=UTC:20260324T130000
DTEND;TZID=UTC:20260324T153000
DTSTAMP:20260425T105456
CREATED:20260114T200459Z
LAST-MODIFIED:20260114T200459Z
UID:10000263-1774357200-1774366200@www.palmettobluff.com
SUMMARY:Research Excursion: Bluebird Survey
DESCRIPTION:Do you want to see what happens on a bluebird survey? Spend the morning with our Science & Education Manager\, Aaron\, as he monitors his portion of the 70+ bluebird boxes spread throughout Palmetto Bluff. \nClosed-toed shoes and long pants required. \nReservations required through: info@pbconservancy.org.
URL:https://www.palmettobluff.com/event/research-excursion-bluebird-survey/
LOCATION:Conservancy Classroom\, 655 Old Moreland Road\, Bluffton\, SC\, 29910
CATEGORIES:Conservancy,Kid Friendly,Nature Outings,Seasonal Programs
ATTACH;FMTTYPE=image/jpeg:https://www.palmettobluff.com/wp-content/uploads/2026/01/BB-Boxes-Eggs-scaled.jpg
END:VEVENT
BEGIN:VEVENT
DTSTART;TZID=UTC:20260325T090000
DTEND;TZID=UTC:20260325T110000
DTSTAMP:20260425T105456
CREATED:20260114T201128Z
LAST-MODIFIED:20260114T201128Z
UID:10000264-1774429200-1774436400@www.palmettobluff.com
SUMMARY:PBC Birding: Cemetery Loop
DESCRIPTION:Join the Conservancy as we look for migratory birds moving through the pine hardwood uplands and maritime forest edge of Cemetery Loop. \nClosed-toed shoes and long pants required. \nReservations required through: info@pbconservancy.org.
URL:https://www.palmettobluff.com/event/pbc-birding-cemetery-loop-2/
LOCATION:Conservancy Classroom\, 655 Old Moreland Road\, Bluffton\, SC\, 29910
CATEGORIES:Conservancy,Nature Outings,Seasonal Programs
ATTACH;FMTTYPE=image/png:https://www.palmettobluff.com/wp-content/uploads/2026/01/Photo-May-05-2025-2-43-07-PM.png
END:VEVENT
BEGIN:VEVENT
DTSTART;TZID=UTC:20260326T100000
DTEND;TZID=UTC:20260326T120000
DTSTAMP:20260425T105456
CREATED:20260114T201254Z
LAST-MODIFIED:20260114T201254Z
UID:10000265-1774519200-1774526400@www.palmettobluff.com
SUMMARY:Explore PBC: Ferns of the Bluff
DESCRIPTION:The Southeast is home to a diversity of ferns that thrive in moist and shady habitats.  Join Brian Byrne\, Land & Wildlife Manager\, as he shows us what varieties of ferns can be found here at Palmetto Bluff. \nClosed-toed shoes and long pants required. \nReservations required through: info@pbconservancy.org.
URL:https://www.palmettobluff.com/event/explore-pbc-ferns-of-the-bluff-2/
LOCATION:Conservancy Classroom\, 655 Old Moreland Road\, Bluffton\, SC\, 29910
CATEGORIES:Conservancy,Nature Outings
ATTACH;FMTTYPE=image/jpeg:https://www.palmettobluff.com/wp-content/uploads/2026/01/Netted-Chain-Fern-scaled.jpg
END:VEVENT
END:VCALENDAR