BEGIN:VCALENDAR
VERSION:2.0
PRODID:-//Palmetto Bluff - ECPv6.9.0//NONSGML v1.0//EN
CALSCALE:GREGORIAN
METHOD:PUBLISH
X-WR-CALNAME:Palmetto Bluff
X-ORIGINAL-URL:https://www.palmettobluff.com
X-WR-CALDESC:Events for Palmetto Bluff
REFRESH-INTERVAL;VALUE=DURATION:PT1H
X-Robots-Tag:noindex
X-PUBLISHED-TTL:PT1H
BEGIN:VTIMEZONE
TZID:UTC
BEGIN:STANDARD
TZOFFSETFROM:+0000
TZOFFSETTO:+0000
TZNAME:UTC
DTSTART:20260101T000000
END:STANDARD
END:VTIMEZONE
BEGIN:VEVENT
DTSTART;TZID=UTC:20260203T103000
DTEND;TZID=UTC:20260203T143000
DTSTAMP:20260425T231544
CREATED:20260114T152741Z
LAST-MODIFIED:20260114T152741Z
UID:10000222-1770114600-1770129000@www.palmettobluff.com
SUMMARY:Workshop: 2-Day Sweetgrass Basket Making Class
DESCRIPTION:Join Dino Badger for this two-day instructional workshop where attendees will have a hands-on lesson in making their own sweetgrass basket.  All materials will be provided\, and everyone should walk away with a nicely sized basket. \nRegistration Required. \nReservations required through: info@pbconservancy.org.
URL:https://www.palmettobluff.com/event/workshop-2-day-sweetgrass-basket-making-class/
LOCATION:Conservancy Classroom\, 655 Old Moreland Road\, Bluffton\, SC\, 29910
CATEGORIES:Conservancy,Hands-On Activities
ATTACH;FMTTYPE=image/jpeg:https://www.palmettobluff.com/wp-content/uploads/2026/01/2-Day-Sweetgrass-Workshop1-scaled.jpg
END:VEVENT
END:VCALENDAR