BEGIN:VCALENDAR
VERSION:2.0
PRODID:-//Palmetto Bluff - ECPv6.9.0//NONSGML v1.0//EN
CALSCALE:GREGORIAN
METHOD:PUBLISH
X-ORIGINAL-URL:https://www.palmettobluff.com
X-WR-CALDESC:Events for Palmetto Bluff
REFRESH-INTERVAL;VALUE=DURATION:PT1H
X-Robots-Tag:noindex
X-PUBLISHED-TTL:PT1H
BEGIN:VTIMEZONE
TZID:UTC
BEGIN:STANDARD
TZOFFSETFROM:+0000
TZOFFSETTO:+0000
TZNAME:UTC
DTSTART:20260101T000000
END:STANDARD
END:VTIMEZONE
BEGIN:VEVENT
DTSTART;VALUE=DATE:20260301
DTEND;VALUE=DATE:20260401
DTSTAMP:20260420T225654
CREATED:20260114T173051Z
LAST-MODIFIED:20260130T183154Z
UID:10000243-1772323200-1775001599@www.palmettobluff.com
SUMMARY:Palmetto Bluff Conservancy March Photo Contest
DESCRIPTION:March Theme: Evergreen \nThe Palmetto Bluff Conservancy hosts a monthly photo contest that highlights the flora and fauna of the Lowcountry\, and we want to see what you’ve seen! Each month will celebrate a different\, Conservancy-related theme. All ages and skill levels are welcome! Photos must be submitted to info@pbconservancy.org to participate. \nHow are the photos judged? \nConservancy Educator\, Aaron\, will review each submission to ensure the photos meet all requirements. Approved entries will be sent to the Conservancy team to be judged in a blind judging. \nPrizes: Our top three participants will receive raffle tickets (3 tickets for first place\, 2 tickets for second place\, and 1 ticket for third place) that will go into a pot for the chance to win a pair of Burn Fest tickets. The drawing will occur following the last Brown Bag Lunch of October. \nRules: \n\nSubmitting a photo to the Palmetto Bluff Conservancy photo contest gives the Palmetto Bluff Conservancy permission to use the photo for posts\, publications\, products\, and advertising.\nEach participant may submit one photo per month related to that month’s theme. The photo does not need to be taken within that month.\nAll images must be taken in the South Carolina Lowcountry.\nAll photos must have complete information attached\, including subjects\, dates\, and locations.\nAnimal and plant photographs must be wild; no captive animals or planted specimens.\nThe animal must be alive\, and the photo be taken under natural conditions and in an ethical manner that places the welfare of the subject above the photographer’s desire to obtain an image.\nPhotos modified with AI will not be accepted.
URL:https://www.palmettobluff.com/event/palmetto-bluff-conservancy-march-photo-contest-2/
LOCATION:South Carolina
CATEGORIES:Conservancy
ATTACH;FMTTYPE=image/jpeg:https://www.palmettobluff.com/wp-content/uploads/2026/01/Event-Image.jpg
END:VEVENT
BEGIN:VEVENT
DTSTART;TZID=UTC:20260318T100000
DTEND;TZID=UTC:20260318T110000
DTSTAMP:20260420T225654
CREATED:20260114T194703Z
LAST-MODIFIED:20260114T194703Z
UID:10000259-1773828000-1773831600@www.palmettobluff.com
SUMMARY:FeederWatch
DESCRIPTION:Join the Conservancy as we monitor the Conservancy bird feeders as part of the FeederWatch citizen science project. Participants will learn how to identify birds that congregate at feeders during the winter\, what foods attract different species\, and be able to ask staff any bird-related questions they may have! \nWalk-ins welcome. \nIf you would rather attend virtually\, click on the following link (or copy and paste into your browser) to watch through zoom webinar: https://us02web.zoom.us/webinar/register/WN_eIaSXnz6T92P00uoHljOmA
URL:https://www.palmettobluff.com/event/feederwatch-35/
LOCATION:Conservancy Classroom\, 655 Old Moreland Road\, Bluffton\, SC\, 29910
CATEGORIES:Conservancy,Kid Friendly,Seasonal Programs
ATTACH;FMTTYPE=image/jpeg:https://www.palmettobluff.com/wp-content/uploads/2026/01/Photo-May-28-2020-7-19-13-PM-1.jpg
END:VEVENT
BEGIN:VEVENT
DTSTART;TZID=UTC:20260318T120000
DTEND;TZID=UTC:20260318T130000
DTSTAMP:20260420T225654
CREATED:20260114T195111Z
LAST-MODIFIED:20260114T195111Z
UID:10000260-1773835200-1773838800@www.palmettobluff.com
SUMMARY:Brown Bag Lunch: Theus Plantation
DESCRIPTION:Join Archaeologist\, Katie Epps\, as she delves into the history\, archaeology\, and cemeteries of Theus Plantation\, the antebellum plantation south of Moreland. If you have never been on our Theus Cemetery Tour\, this is the perfect opportunity to learn more about this serene landscape. \nWalk-ins welcome. \nIf you would rather attend virtually\, click on the following link (or copy and paste into your browser) to watch through zoom webinar: https://us02web.zoom.us/webinar/register/WN_YN9gTVs0SqqUqstFjsyA7g
URL:https://www.palmettobluff.com/event/brown-bag-lunch-theus-plantation/
LOCATION:Conservancy Classroom\, 655 Old Moreland Road\, Bluffton\, SC\, 29910
CATEGORIES:Conservancy,Talks & Lectures
ATTACH;FMTTYPE=image/jpeg:https://www.palmettobluff.com/wp-content/uploads/2026/01/Theus-Plantation-scaled.jpg
END:VEVENT
END:VCALENDAR